BEGIN:VCALENDAR
VERSION:2.0
PRODID:-//Porter&#039;s Landing - ECPv6.10.2//NONSGML v1.0//EN
CALSCALE:GREGORIAN
METHOD:PUBLISH
X-WR-CALNAME:Porter&#039;s Landing
X-ORIGINAL-URL:http://www.porterslanding.org
X-WR-CALDESC:Events for Porter&#039;s Landing
REFRESH-INTERVAL;VALUE=DURATION:PT1H
X-Robots-Tag:noindex
X-PUBLISHED-TTL:PT1H
BEGIN:VTIMEZONE
TZID:UTC
BEGIN:STANDARD
TZOFFSETFROM:+0000
TZOFFSETTO:+0000
TZNAME:UTC
DTSTART:20240101T000000
END:STANDARD
END:VTIMEZONE
BEGIN:VEVENT
DTSTART;VALUE=DATE:20250104
DTEND;VALUE=DATE:20250105
DTSTAMP:20260425T012420
CREATED:20241212T194708Z
LAST-MODIFIED:20241213T020522Z
UID:972-1735948800-1736035199@www.porterslanding.org
SUMMARY:PENDING - DECKER
DESCRIPTION:
URL:http://www.porterslanding.org/calendar-event/pending-decker/
END:VEVENT
BEGIN:VEVENT
DTSTART;VALUE=DATE:20241228
DTEND;VALUE=DATE:20241229
DTSTAMP:20260425T012420
CREATED:20241003T154754Z
LAST-MODIFIED:20241003T154754Z
UID:952-1735344000-1735430399@www.porterslanding.org
SUMMARY:PENDING - HARRIS
DESCRIPTION:
URL:http://www.porterslanding.org/calendar-event/pending-harris-2/
END:VEVENT
BEGIN:VEVENT
DTSTART;TZID=UTC:20241217T190000
DTEND;TZID=UTC:20241217T200000
DTSTAMP:20260425T012420
CREATED:20191210T165310Z
LAST-MODIFIED:20191210T165310Z
UID:665-1734462000-1734465600@www.porterslanding.org
SUMMARY:RESERVED: HOA Meeting - All residents welcome\, please join us!
DESCRIPTION:
URL:http://www.porterslanding.org/calendar-event/reserved-hoa-meeting-all-residents-welcome-please-join-us-2024-12-17/
END:VEVENT
BEGIN:VEVENT
DTSTART;VALUE=DATE:20241214
DTEND;VALUE=DATE:20241215
DTSTAMP:20260425T012420
CREATED:20240723T020843Z
LAST-MODIFIED:20241130T040859Z
UID:921-1734134400-1734220799@www.porterslanding.org
SUMMARY:RESERVED - STILLER
DESCRIPTION:
URL:http://www.porterslanding.org/calendar-event/pending-sutton/
END:VEVENT
BEGIN:VEVENT
DTSTART;VALUE=DATE:20241213
DTEND;VALUE=DATE:20241214
DTSTAMP:20260425T012420
CREATED:20240723T030551Z
LAST-MODIFIED:20240912T145428Z
UID:922-1734048000-1734134399@www.porterslanding.org
SUMMARY:RESERVED - A. Davis
DESCRIPTION:
URL:http://www.porterslanding.org/calendar-event/pending-a-davis/
END:VEVENT
BEGIN:VEVENT
DTSTART;VALUE=DATE:20241212
DTEND;VALUE=DATE:20241213
DTSTAMP:20260425T012420
CREATED:20241003T151724Z
LAST-MODIFIED:20241003T151945Z
UID:950-1733961600-1734047999@www.porterslanding.org
SUMMARY:SOCIAL COMMITTEE - RESERVED
DESCRIPTION:
URL:http://www.porterslanding.org/calendar-event/social-committee-reserved/
END:VEVENT
BEGIN:VEVENT
DTSTART;VALUE=DATE:20241211
DTEND;VALUE=DATE:20241212
DTSTAMP:20260425T012420
CREATED:20241104T023325Z
LAST-MODIFIED:20241114T011149Z
UID:962-1733875200-1733961599@www.porterslanding.org
SUMMARY:RESERVED - STEVENSON
DESCRIPTION:
URL:http://www.porterslanding.org/calendar-event/pending-stevenson/
END:VEVENT
BEGIN:VEVENT
DTSTART;VALUE=DATE:20241208
DTEND;VALUE=DATE:20241209
DTSTAMP:20260425T012420
CREATED:20240925T010233Z
LAST-MODIFIED:20241130T040335Z
UID:945-1733616000-1733702399@www.porterslanding.org
SUMMARY:RESERVED - Baughn
DESCRIPTION:
URL:http://www.porterslanding.org/calendar-event/pending-baughn-2/
END:VEVENT
BEGIN:VEVENT
DTSTART;VALUE=DATE:20241207
DTEND;VALUE=DATE:20241208
DTSTAMP:20260425T012420
CREATED:20240711T032856Z
LAST-MODIFIED:20240711T032856Z
UID:911-1733529600-1733615999@www.porterslanding.org
SUMMARY:BREAKFAST WITH SANTA
DESCRIPTION:
URL:http://www.porterslanding.org/calendar-event/breakfast-with-santa-3/
END:VEVENT
BEGIN:VEVENT
DTSTART;VALUE=DATE:20241201
DTEND;VALUE=DATE:20241202
DTSTAMP:20260425T012420
CREATED:20240925T010641Z
LAST-MODIFIED:20241130T040824Z
UID:946-1733011200-1733097599@www.porterslanding.org
SUMMARY:RESERVED - Porter
DESCRIPTION:
URL:http://www.porterslanding.org/calendar-event/pending-porter/
END:VEVENT
BEGIN:VEVENT
DTSTART;VALUE=DATE:20241130
DTEND;VALUE=DATE:20241201
DTSTAMP:20260425T012420
CREATED:20240406T024402Z
LAST-MODIFIED:20240420T161959Z
UID:875-1732924800-1733011199@www.porterslanding.org
SUMMARY:RESERVED- Baughn
DESCRIPTION:
URL:http://www.porterslanding.org/calendar-event/pending-baughn/
END:VEVENT
BEGIN:VEVENT
DTSTART;VALUE=DATE:20241129
DTEND;VALUE=DATE:20241130
DTSTAMP:20260425T012420
CREATED:20241104T021405Z
LAST-MODIFIED:20241104T021405Z
UID:961-1732838400-1732924799@www.porterslanding.org
SUMMARY:RESERVED - HOLT
DESCRIPTION:
URL:http://www.porterslanding.org/calendar-event/reserved-holt-3/
END:VEVENT
BEGIN:VEVENT
DTSTART;TZID=UTC:20241119T190000
DTEND;TZID=UTC:20241119T200000
DTSTAMP:20260425T012420
CREATED:20191210T165310Z
LAST-MODIFIED:20191210T165310Z
UID:647-1732042800-1732046400@www.porterslanding.org
SUMMARY:RESERVED: HOA Meeting - All residents welcome\, please join us!
DESCRIPTION:
URL:http://www.porterslanding.org/calendar-event/reserved-hoa-meeting-all-residents-welcome-please-join-us-2024-11-19/
END:VEVENT
BEGIN:VEVENT
DTSTART;VALUE=DATE:20241117
DTEND;VALUE=DATE:20241118
DTSTAMP:20260425T012420
CREATED:20241028T030831Z
LAST-MODIFIED:20241028T030831Z
UID:958-1731801600-1731887999@www.porterslanding.org
SUMMARY:PENDING - BECK
DESCRIPTION:
URL:http://www.porterslanding.org/calendar-event/pending-beck-2/
END:VEVENT
BEGIN:VEVENT
DTSTART;VALUE=DATE:20241110
DTEND;VALUE=DATE:20241111
DTSTAMP:20260425T012420
CREATED:20240819T204205Z
LAST-MODIFIED:20240912T152313Z
UID:931-1731196800-1731283199@www.porterslanding.org
SUMMARY:RESERVED - Di-Paolo
DESCRIPTION:
URL:http://www.porterslanding.org/calendar-event/pending-di-paolo-2/
END:VEVENT
BEGIN:VEVENT
DTSTART;VALUE=DATE:20241109
DTEND;VALUE=DATE:20241110
DTSTAMP:20260425T012420
CREATED:20240711T033246Z
LAST-MODIFIED:20240711T033246Z
UID:912-1731110400-1731196799@www.porterslanding.org
SUMMARY:PENDING - DAVIS
DESCRIPTION:
URL:http://www.porterslanding.org/calendar-event/pending-davis-3/
END:VEVENT
BEGIN:VEVENT
DTSTART;VALUE=DATE:20241102
DTEND;VALUE=DATE:20241103
DTSTAMP:20260425T012420
CREATED:20240718T194053Z
LAST-MODIFIED:20240912T154052Z
UID:918-1730505600-1730591999@www.porterslanding.org
SUMMARY:RESERVED - Lampe
DESCRIPTION:
URL:http://www.porterslanding.org/calendar-event/pending-lampe/
END:VEVENT
BEGIN:VEVENT
DTSTART;VALUE=DATE:20241026
DTEND;VALUE=DATE:20241027
DTSTAMP:20260425T012420
CREATED:20240707T141709Z
LAST-MODIFIED:20240707T141709Z
UID:908-1729900800-1729987199@www.porterslanding.org
SUMMARY:SOCIAL COMMITTEE
DESCRIPTION:
URL:http://www.porterslanding.org/calendar-event/social-committee/
END:VEVENT
BEGIN:VEVENT
DTSTART;VALUE=DATE:20241019
DTEND;VALUE=DATE:20241020
DTSTAMP:20260425T012420
CREATED:20240917T020333Z
LAST-MODIFIED:20240917T021214Z
UID:942-1729296000-1729382399@www.porterslanding.org
SUMMARY:RESERVED - DAVIS
DESCRIPTION:
URL:http://www.porterslanding.org/calendar-event/reserved-davis-2/
END:VEVENT
BEGIN:VEVENT
DTSTART;TZID=UTC:20241015T190000
DTEND;TZID=UTC:20241015T200000
DTSTAMP:20260425T012420
CREATED:20191210T165310Z
LAST-MODIFIED:20191210T165310Z
UID:636-1729018800-1729022400@www.porterslanding.org
SUMMARY:RESERVED: HOA Meeting - All residents welcome\, please join us!
DESCRIPTION:
URL:http://www.porterslanding.org/calendar-event/reserved-hoa-meeting-all-residents-welcome-please-join-us-2024-10-15/
END:VEVENT
BEGIN:VEVENT
DTSTART;VALUE=DATE:20241006
DTEND;VALUE=DATE:20241007
DTSTAMP:20260425T012420
CREATED:20240819T204423Z
LAST-MODIFIED:20240912T150145Z
UID:933-1728172800-1728259199@www.porterslanding.org
SUMMARY:RESERVED - Wolfe
DESCRIPTION:
URL:http://www.porterslanding.org/calendar-event/pending-wolfe/
END:VEVENT
BEGIN:VEVENT
DTSTART;VALUE=DATE:20240921
DTEND;VALUE=DATE:20240922
DTSTAMP:20260425T012420
CREATED:20240912T144637Z
LAST-MODIFIED:20240912T144637Z
UID:938-1726876800-1726963199@www.porterslanding.org
SUMMARY:RESERVED - LAGASSE
DESCRIPTION:
URL:http://www.porterslanding.org/calendar-event/reserved-lagasse/
END:VEVENT
BEGIN:VEVENT
DTSTART;TZID=UTC:20240917T190000
DTEND;TZID=UTC:20240917T200000
DTSTAMP:20260425T012420
CREATED:20191210T165310Z
LAST-MODIFIED:20191210T165310Z
UID:626-1726599600-1726603200@www.porterslanding.org
SUMMARY:RESERVED: HOA Meeting - All residents welcome\, please join us!
DESCRIPTION:
URL:http://www.porterslanding.org/calendar-event/reserved-hoa-meeting-all-residents-welcome-please-join-us-2024-09-17/
END:VEVENT
BEGIN:VEVENT
DTSTART;VALUE=DATE:20240914
DTEND;VALUE=DATE:20240915
DTSTAMP:20260425T012420
CREATED:20240717T033806Z
LAST-MODIFIED:20240912T144659Z
UID:916-1726272000-1726358399@www.porterslanding.org
SUMMARY:RESERVED - Muwwakkil
DESCRIPTION:
URL:http://www.porterslanding.org/calendar-event/pending-muwwakkil/
END:VEVENT
BEGIN:VEVENT
DTSTART;VALUE=DATE:20240831
DTEND;VALUE=DATE:20240901
DTSTAMP:20260425T012420
CREATED:20240819T204921Z
LAST-MODIFIED:20240912T145740Z
UID:934-1725062400-1725148799@www.porterslanding.org
SUMMARY:RESERVED - Harris
DESCRIPTION:
URL:http://www.porterslanding.org/calendar-event/pending-harris/
END:VEVENT
BEGIN:VEVENT
DTSTART;TZID=UTC:20240820T190000
DTEND;TZID=UTC:20240820T200000
DTSTAMP:20260425T012420
CREATED:20191210T165310Z
LAST-MODIFIED:20191210T165310Z
UID:623-1724180400-1724184000@www.porterslanding.org
SUMMARY:RESERVED: HOA Meeting - All residents welcome\, please join us!
DESCRIPTION:
URL:http://www.porterslanding.org/calendar-event/reserved-hoa-meeting-all-residents-welcome-please-join-us-2024-08-20/
END:VEVENT
BEGIN:VEVENT
DTSTART;VALUE=DATE:20240817
DTEND;VALUE=DATE:20240818
DTSTAMP:20260425T012420
CREATED:20240723T020516Z
LAST-MODIFIED:20240723T020516Z
UID:920-1723852800-1723939199@www.porterslanding.org
SUMMARY:PENDING - Gaddy
DESCRIPTION:
URL:http://www.porterslanding.org/calendar-event/pending-gaddy-2/
END:VEVENT
BEGIN:VEVENT
DTSTART;TZID=UTC:20240723T080000
DTEND;TZID=UTC:20240723T170000
DTSTAMP:20260425T012420
CREATED:20240723T030823Z
LAST-MODIFIED:20240723T031214Z
UID:923-1721721600-1721754000@www.porterslanding.org
SUMMARY:PENDING - Lagasse
DESCRIPTION:
URL:http://www.porterslanding.org/calendar-event/pending-lagasse-3/
END:VEVENT
BEGIN:VEVENT
DTSTART;TZID=UTC:20240716T190000
DTEND;TZID=UTC:20240716T200000
DTSTAMP:20260425T012420
CREATED:20191210T165310Z
LAST-MODIFIED:20191210T165310Z
UID:616-1721156400-1721160000@www.porterslanding.org
SUMMARY:RESERVED: HOA Meeting - All residents welcome\, please join us!
DESCRIPTION:
URL:http://www.porterslanding.org/calendar-event/reserved-hoa-meeting-all-residents-welcome-please-join-us-2024-07-16/
END:VEVENT
BEGIN:VEVENT
DTSTART;VALUE=DATE:20240622
DTEND;VALUE=DATE:20240623
DTSTAMP:20260425T012420
CREATED:20240406T023956Z
LAST-MODIFIED:20240406T024306Z
UID:874-1719014400-1719100799@www.porterslanding.org
SUMMARY:RESERVED - HOLT
DESCRIPTION:
URL:http://www.porterslanding.org/calendar-event/reserved-holt-2/
END:VEVENT
END:VCALENDAR